BEGIN:VCALENDAR
VERSION:2.0
PRODID:-//Wasserstern Augsburg - ECPv6.15.20//NONSGML v1.0//EN
CALSCALE:GREGORIAN
METHOD:PUBLISH
X-ORIGINAL-URL:http://wasserstern.com
X-WR-CALDESC:Veranstaltungen für Wasserstern Augsburg
REFRESH-INTERVAL;VALUE=DURATION:PT1H
X-Robots-Tag:noindex
X-PUBLISHED-TTL:PT1H
BEGIN:VTIMEZONE
TZID:UTC
BEGIN:STANDARD
TZOFFSETFROM:+0000
TZOFFSETTO:+0000
TZNAME:UTC
DTSTART:20250101T000000
END:STANDARD
END:VTIMEZONE
BEGIN:VEVENT
DTSTART;TZID=UTC:20260303T200000
DTEND;TZID=UTC:20260303T233000
DTSTAMP:20260419T170649
CREATED:20150531T223447Z
LAST-MODIFIED:20260216T122345Z
UID:442-1772568000-1772580600@wasserstern.com
SUMMARY:Reptilien und Amphibien Sri Lankas
DESCRIPTION:Nach dem sehr intetessanten Vortrag im letzten Jahr über seinen Aufenthalt in den Bermudas bei einer Haiforschungstation\, berichtet er uns dieses Mal über die Reptilien und Amphibien in verschiedenen Klimazonen von Sri Lanka. Vortrag von: Konstantin Fey
URL:http://wasserstern.com/event/family-days/
LOCATION:Bayrischer Löwe\, Ulmer Str 30\, Augsburg\, Bayern\, 86154\, Germany
CATEGORIES:Vorträge
ATTACH;FMTTYPE=image/png:http://wasserstern.com/wp-content/uploads/2015/05/SriLanka.png
END:VEVENT
END:VCALENDAR